BEGIN:VCALENDAR
PRODID:-//AT Content Types//AT Event//EN
VERSION:2.0
METHOD:PUBLISH
BEGIN:VEVENT
DTSTAMP:20260424T121538Z
CREATED:20120530T091933Z
UID:ATEvent-bc5e667d1f09db6b0f7aa3768c92a907
LAST-MODIFIED:20120530T092130Z
SUMMARY:BIBLIAI TÁBOR 2012
DTSTART:20120702T070000Z
DTEND:20120706T100000Z
DESCRIPTION:Bibliai tábor 2012 Telekgerendás\n\n\nA tábor időpontj
 a\: július 2-6\, hétfőtől péntekig\, minden nap 9-től 12 óráig
 .\n\nHelye\: az evangélikus gyülekezeti terem.\n\nProgramja\: biblia
 i történetek\, énekek\, vetélkedők\, akadályverseny\, játékok.
 \n\nA részvétel ingyenes.\n\nJelentkezési határidő\: június 27.\
 n\nÉrdeklődni és jelentkezni Liptákné Gajdács Mária evangéliku
 s lelkésznél lehet személyesen vagy a 20-824-7910-es telefonszámon
 \, esetleg e-mail-ben\: maria.liptak@lutheran.hu.
LOCATION:Telekgerendás
CLASS:PUBLIC
END:VEVENT
END:VCALENDAR
