BEGIN:VCALENDAR
PRODID:-//AT Content Types//AT Event//EN
VERSION:1.0
BEGIN:VEVENT
DTSTART:20111009T080000Z
DTEND:20111009T140000Z
DCREATED:20110927T142808Z
UID:ATEvent-358d57978a0b0893898db7f3e0179be1
SEQUENCE:0
LAST-MODIFIED:20110927T142835Z
SUMMARY:Teleki CsalÃ¡di Nap 2011
DESCRIPTION:D.Dr. Harmati BÃ©la ny.pÃ¼spÃ¶k Ã©s Kutyej PÃ¡l GÃ¡bor iga
 zgatÃ³lelkÃ©sz szolgÃ¡latÃ¡val Ã¼nnepi istentiszteletet tartunk\, amel
 yen megemlÃ©kezÃ¼nk templomunk 20 Ã©vvel ezelÅ‘tti alapkÅ‘letÃ©telÃ©rÅ
 ‘l.
LOCATION:TelekgerendÃ¡s\, EvangÃ©likus templom
PRIORITY:3
TRANSP:0
END:VEVENT
END:VCALENDAR
